BEGIN:VCALENDAR
VERSION:2.0
PRODID:-//MRSH · Maison de la Recherche en Sciences Humaines - ECPv6.15.18//NONSGML v1.0//EN
CALSCALE:GREGORIAN
METHOD:PUBLISH
X-ORIGINAL-URL:https://mrsh.unicaen.fr
X-WR-CALDESC:Évènements pour MRSH · Maison de la Recherche en Sciences Humaines
REFRESH-INTERVAL;VALUE=DURATION:PT1H
X-Robots-Tag:noindex
X-PUBLISHED-TTL:PT1H
BEGIN:VTIMEZONE
TZID:Europe/Paris
BEGIN:DAYLIGHT
TZOFFSETFROM:+0100
TZOFFSETTO:+0200
TZNAME:CEST
DTSTART:20230326T010000
END:DAYLIGHT
BEGIN:STANDARD
TZOFFSETFROM:+0200
TZOFFSETTO:+0100
TZNAME:CET
DTSTART:20231029T010000
END:STANDARD
BEGIN:DAYLIGHT
TZOFFSETFROM:+0100
TZOFFSETTO:+0200
TZNAME:CEST
DTSTART:20240331T010000
END:DAYLIGHT
BEGIN:STANDARD
TZOFFSETFROM:+0200
TZOFFSETTO:+0100
TZNAME:CET
DTSTART:20241027T010000
END:STANDARD
BEGIN:DAYLIGHT
TZOFFSETFROM:+0100
TZOFFSETTO:+0200
TZNAME:CEST
DTSTART:20250330T010000
END:DAYLIGHT
BEGIN:STANDARD
TZOFFSETFROM:+0200
TZOFFSETTO:+0100
TZNAME:CET
DTSTART:20251026T010000
END:STANDARD
END:VTIMEZONE
BEGIN:VEVENT
DTSTART;TZID=Europe/Paris:20240320T130000
DTEND;TZID=Europe/Paris:20240320T160000
DTSTAMP:20260426T031419
CREATED:20240215T125556Z
LAST-MODIFIED:20240215T125556Z
UID:48128-1710939600-1710950400@mrsh.unicaen.fr
SUMMARY:Appropriation de l'audiovisuel par les peuples indigènes au Brésil
DESCRIPTION:Master Class avec Vincent Carelli\, réalisateur documentariste et militant de la cause indigène au Brésil \n\n\n\nLe processus d’appropriation de l´audiovisuel par les peuples indigènes au Brésil\, au long des 37 ans du projet « Vidéo dans les Villages ». Lancé en 1986 le projet « Vidéo dans les Villages » (Vídeo nas Aldeias)\, ce projet a favorisé\, pendant plus de vingt ans\, la rencontre des peuples indigènes avec leur image et leur appropriation de l’écriture vidéo afin de faire partager leur vision du monde. Alors qu’ils ont été longtemps l’objet d’un regard extérieur\, il s’agissait de devenir le sujet énonçant ces images\, à partir de la formation et de l’équipement fournis par ce projet. Ce projet a également stimulé les échanges entre les différentes communautés autochtones de la région. \n\n\n\nÉvénement organisé dans le cadre du festival Altérités avec le soutien du CERREV (UNICAEN) et du programme FRESH de la MRSH. \n\n\n\nOuvert aux étudiants et à tout public \n\n\n\nCrédit image : Crédit image : Vincent Carelli \n\n\n\n\n\n\nAffiche
URL:https://mrsh.unicaen.fr/evenement/appropriation-de-laudiovisuel-par-les-peuples-indigenes-au-bresil/
CATEGORIES:Rencontre - Table ronde
ATTACH;FMTTYPE=image/png:https://mrsh.unicaen.fr/wp-content/uploads/sites/35/2024/02/IMG_3479-bandeau.png
END:VEVENT
END:VCALENDAR