BEGIN:VCALENDAR
VERSION:2.0
PRODID:-//MRSH · Maison de la Recherche en Sciences Humaines - ECPv6.15.18//NONSGML v1.0//EN
CALSCALE:GREGORIAN
METHOD:PUBLISH
X-WR-CALNAME:MRSH · Maison de la Recherche en Sciences Humaines
X-ORIGINAL-URL:https://mrsh.unicaen.fr
X-WR-CALDESC:Évènements pour MRSH · Maison de la Recherche en Sciences Humaines
REFRESH-INTERVAL;VALUE=DURATION:PT1H
X-Robots-Tag:noindex
X-PUBLISHED-TTL:PT1H
BEGIN:VTIMEZONE
TZID:Europe/Paris
BEGIN:DAYLIGHT
TZOFFSETFROM:+0100
TZOFFSETTO:+0200
TZNAME:CEST
DTSTART:20230326T010000
END:DAYLIGHT
BEGIN:STANDARD
TZOFFSETFROM:+0200
TZOFFSETTO:+0100
TZNAME:CET
DTSTART:20231029T010000
END:STANDARD
BEGIN:DAYLIGHT
TZOFFSETFROM:+0100
TZOFFSETTO:+0200
TZNAME:CEST
DTSTART:20240331T010000
END:DAYLIGHT
BEGIN:STANDARD
TZOFFSETFROM:+0200
TZOFFSETTO:+0100
TZNAME:CET
DTSTART:20241027T010000
END:STANDARD
BEGIN:DAYLIGHT
TZOFFSETFROM:+0100
TZOFFSETTO:+0200
TZNAME:CEST
DTSTART:20250330T010000
END:DAYLIGHT
BEGIN:STANDARD
TZOFFSETFROM:+0200
TZOFFSETTO:+0100
TZNAME:CET
DTSTART:20251026T010000
END:STANDARD
END:VTIMEZONE
BEGIN:VEVENT
DTSTART;TZID=Europe/Paris:20240322T150000
DTEND;TZID=Europe/Paris:20240322T180000
DTSTAMP:20260420T151522
CREATED:20231116T111530Z
LAST-MODIFIED:20231116T111530Z
UID:2896-1711119600-1711130400@mrsh.unicaen.fr
SUMMARY:Conserver et restaurer la Concorde\, II ǀ 7
DESCRIPTION:SÉMINAIRE PLURIDISCIPLINAIRE  \n\n\n\nLe Temps de l’Empire ibérique (XVe – XVIIIe siècles) \n\n\n\n\n\nAlbane Cogné (Université de Tours)\, Restaurer l’ordre et la concorde après les révoltes siciliennes du XVIIe siècle \n\n\n\nResponsable(s) scientifique(s) : Alexandra Merle
URL:https://mrsh.unicaen.fr/evenement/conserver-et-restaurer-la-concorde-ii-%c7%80-8/
LOCATION:Caen · Campus 1 · Maison de la recherche en sciences humaines (MRSH) · Amphi\, Campus 1\, Maison de la recherche en sciences humaines (MRSH)\, 1 Esplanade de la Paix\, Caen\, 14000\, France
CATEGORIES:Séminaire
END:VEVENT
END:VCALENDAR