BEGIN:VCALENDAR
VERSION:2.0
PRODID:-//MRSH · Maison de la Recherche en Sciences Humaines - ECPv6.15.18//NONSGML v1.0//EN
CALSCALE:GREGORIAN
METHOD:PUBLISH
X-ORIGINAL-URL:https://mrsh.unicaen.fr
X-WR-CALDESC:Évènements pour MRSH · Maison de la Recherche en Sciences Humaines
REFRESH-INTERVAL;VALUE=DURATION:PT1H
X-Robots-Tag:noindex
X-PUBLISHED-TTL:PT1H
BEGIN:VTIMEZONE
TZID:Europe/Paris
BEGIN:DAYLIGHT
TZOFFSETFROM:+0100
TZOFFSETTO:+0200
TZNAME:CEST
DTSTART:20240331T010000
END:DAYLIGHT
BEGIN:STANDARD
TZOFFSETFROM:+0200
TZOFFSETTO:+0100
TZNAME:CET
DTSTART:20241027T010000
END:STANDARD
BEGIN:DAYLIGHT
TZOFFSETFROM:+0100
TZOFFSETTO:+0200
TZNAME:CEST
DTSTART:20250330T010000
END:DAYLIGHT
BEGIN:STANDARD
TZOFFSETFROM:+0200
TZOFFSETTO:+0100
TZNAME:CET
DTSTART:20251026T010000
END:STANDARD
BEGIN:DAYLIGHT
TZOFFSETFROM:+0100
TZOFFSETTO:+0200
TZNAME:CEST
DTSTART:20260329T010000
END:DAYLIGHT
BEGIN:STANDARD
TZOFFSETFROM:+0200
TZOFFSETTO:+0100
TZNAME:CET
DTSTART:20261025T010000
END:STANDARD
END:VTIMEZONE
BEGIN:VEVENT
DTSTART;TZID=Europe/Paris:20250314T143000
DTEND;TZID=Europe/Paris:20250314T173000
DTSTAMP:20260421T232908
CREATED:20240906T134846Z
LAST-MODIFIED:20240906T134846Z
UID:49062-1741962600-1741973400@mrsh.unicaen.fr
SUMMARY:Négociations\, médiations\, réseaux dans l’empire ibérique (XVe-XVIIIe siècles) | 7
DESCRIPTION:Séminaire pluridisciplinaire – année 2024-2025Le Temps de l’Empire ibérique (XVe – XVIIIe siècles) \n\n\n\nLaura Oliván Santaliestra (Universidad de Granada)\, Embajadoras en la corte de Mariana de AustriaElodie Conti (Université Lyon 3)\, Diplomatie et réseaux féminins autour d’Élisabeth de Bourbon (1602-1644) \n\n\n\n\nProgramme 2024-2025
URL:https://mrsh.unicaen.fr/evenement/negociations-mediations-reseaux-dans-lempire-iberique-xve-xviiie-siecles-7/
LOCATION:Caen · Campus 1 · Maison de la recherche en sciences humaines (MRSH) · Salle SH-126\, Campus 1\, Maison de la recherche en sciences humaines (MRSH)\, 1 Esplanade de la Paix\, Caen\, 14000\, France
CATEGORIES:Séminaire
ATTACH;FMTTYPE=image/jpeg:https://mrsh.unicaen.fr/wp-content/uploads/sites/35/2024/09/seminaireTEI20242025.jpg
END:VEVENT
END:VCALENDAR