BEGIN:VCALENDAR
VERSION:2.0
PRODID:-//MRSH · Maison de la Recherche en Sciences Humaines - ECPv6.15.18//NONSGML v1.0//EN
CALSCALE:GREGORIAN
METHOD:PUBLISH
X-WR-CALNAME:MRSH · Maison de la Recherche en Sciences Humaines
X-ORIGINAL-URL:https://mrsh.unicaen.fr
X-WR-CALDESC:Évènements pour MRSH · Maison de la Recherche en Sciences Humaines
REFRESH-INTERVAL;VALUE=DURATION:PT1H
X-Robots-Tag:noindex
X-PUBLISHED-TTL:PT1H
BEGIN:VTIMEZONE
TZID:Europe/Paris
BEGIN:DAYLIGHT
TZOFFSETFROM:+0100
TZOFFSETTO:+0200
TZNAME:CEST
DTSTART:20240331T010000
END:DAYLIGHT
BEGIN:STANDARD
TZOFFSETFROM:+0200
TZOFFSETTO:+0100
TZNAME:CET
DTSTART:20241027T010000
END:STANDARD
BEGIN:DAYLIGHT
TZOFFSETFROM:+0100
TZOFFSETTO:+0200
TZNAME:CEST
DTSTART:20250330T010000
END:DAYLIGHT
BEGIN:STANDARD
TZOFFSETFROM:+0200
TZOFFSETTO:+0100
TZNAME:CET
DTSTART:20251026T010000
END:STANDARD
BEGIN:DAYLIGHT
TZOFFSETFROM:+0100
TZOFFSETTO:+0200
TZNAME:CEST
DTSTART:20260329T010000
END:DAYLIGHT
BEGIN:STANDARD
TZOFFSETFROM:+0200
TZOFFSETTO:+0100
TZNAME:CET
DTSTART:20261025T010000
END:STANDARD
END:VTIMEZONE
BEGIN:VEVENT
DTSTART;TZID=Europe/Paris:20250318T080000
DTEND;TZID=Europe/Paris:20250412T170000
DTSTAMP:20260420T075919
CREATED:20250228T094217Z
LAST-MODIFIED:20250228T094905Z
UID:51486-1742284800-1744477200@mrsh.unicaen.fr
SUMMARY:Exposition - Les victimes de la répression nazie à Caen
DESCRIPTION:Lieu : église du Vieux Saint-Sauveur \n\n\n\nMémoire et hommage au Vieux Saint-Sauveur\n\n\n\nUne exposition portée par le laboratoire HisTeMé. \n\n\n\nDu 18 mars au 12 avril\, l’église du Vieux Saint-Sauveur accueillera une exposition poignante portée par le laboratoire HisTeMé.  \n\n\n\nDécouvrez les portraits illustrés de déportés juifs\, de fusillés et d’exécutés\, anciens habitants de Caen\, ainsi que les récits des Justes et des survivants des camps.  \n\n\n\nL’exposition retracera également les itinéraires tragiques de résistants et otages fusillés à la prison de Caen. Une occasion essentielle de se souvenir et d’honorer les victimes de la barbarie nazie.  \n\n\n\nEntrée libre.
URL:https://mrsh.unicaen.fr/evenement/exposition-les-victimes-de-la-repression-nazie-a-caen/
CATEGORIES:Exposition
ATTACH;FMTTYPE=image/jpeg:https://mrsh.unicaen.fr/wp-content/uploads/sites/35/2025/02/544468-Eglise_du_Vieux_Saint-Sauveur__Caen-Caen_la_mer_Tourisme___Alix_JONET.jpg
END:VEVENT
END:VCALENDAR