BEGIN:VCALENDAR
VERSION:2.0
PRODID:-//MRSH · Maison de la Recherche en Sciences Humaines - ECPv6.15.18//NONSGML v1.0//EN
CALSCALE:GREGORIAN
METHOD:PUBLISH
X-WR-CALNAME:MRSH · Maison de la Recherche en Sciences Humaines
X-ORIGINAL-URL:https://mrsh.unicaen.fr
X-WR-CALDESC:Évènements pour MRSH · Maison de la Recherche en Sciences Humaines
REFRESH-INTERVAL;VALUE=DURATION:PT1H
X-Robots-Tag:noindex
X-PUBLISHED-TTL:PT1H
BEGIN:VTIMEZONE
TZID:Europe/Paris
BEGIN:DAYLIGHT
TZOFFSETFROM:+0100
TZOFFSETTO:+0200
TZNAME:CEST
DTSTART:20240331T010000
END:DAYLIGHT
BEGIN:STANDARD
TZOFFSETFROM:+0200
TZOFFSETTO:+0100
TZNAME:CET
DTSTART:20241027T010000
END:STANDARD
BEGIN:DAYLIGHT
TZOFFSETFROM:+0100
TZOFFSETTO:+0200
TZNAME:CEST
DTSTART:20250330T010000
END:DAYLIGHT
BEGIN:STANDARD
TZOFFSETFROM:+0200
TZOFFSETTO:+0100
TZNAME:CET
DTSTART:20251026T010000
END:STANDARD
BEGIN:DAYLIGHT
TZOFFSETFROM:+0100
TZOFFSETTO:+0200
TZNAME:CEST
DTSTART:20260329T010000
END:DAYLIGHT
BEGIN:STANDARD
TZOFFSETFROM:+0200
TZOFFSETTO:+0100
TZNAME:CET
DTSTART:20261025T010000
END:STANDARD
END:VTIMEZONE
BEGIN:VEVENT
DTSTART;TZID=Europe/Paris:20251002T100000
DTEND;TZID=Europe/Paris:20251002T170000
DTSTAMP:20260419T192610
CREATED:20250912T135105Z
LAST-MODIFIED:20250912T140014Z
UID:89049-1759399200-1759424400@mrsh.unicaen.fr
SUMMARY:PENSER LE MARITIME | 2
DESCRIPTION:LE HAVRE NORMANDIE UNIVERSITE/POLE DES ETUDES MARITIMES \n\n\n\nOrganisé par Carole CHRISTEN\, Éric SAUNIER et Thomas VAISSETLes séances se déroulent à l’université Le Havre Normandie\, en salle Madeleine de Scurdéry (PRSH) \n\n\n\n\n\nJournée d’étude \n\n\n\n« Autour de la Seine : champs\, historiographie\, perspectives (3). La Seine et les activités économiques »\n\n\n\nBoris BOVE (GRHis\, Université de Rouen Normandie)Laurence JEAN-MARIE (Centre Michel de Boüard/CRAHAM\, Université de Caen Normandie)Bastien MICHEL (IDEES\, UMR 6266 CNRS\, Université Le Havre Normandie)
URL:https://mrsh.unicaen.fr/evenement/penser-le-maritime-2/
LOCATION:Le Havre · Université Le Havre Normandie\, Université Le Havre Normandie\, 25 Rue Philippe Lebon\, Le Havre\, 76600\, France
CATEGORIES:Séminaire
ATTACH;FMTTYPE=image/jpeg:https://mrsh.unicaen.fr/wp-content/uploads/sites/35/2025/09/Jolivet1web.jpg
END:VEVENT
END:VCALENDAR