BEGIN:VCALENDAR
VERSION:2.0
PRODID:-//MRSH · Maison de la Recherche en Sciences Humaines - ECPv6.15.18//NONSGML v1.0//EN
CALSCALE:GREGORIAN
METHOD:PUBLISH
X-ORIGINAL-URL:https://mrsh.unicaen.fr
X-WR-CALDESC:Évènements pour MRSH · Maison de la Recherche en Sciences Humaines
REFRESH-INTERVAL;VALUE=DURATION:PT1H
X-Robots-Tag:noindex
X-PUBLISHED-TTL:PT1H
BEGIN:VTIMEZONE
TZID:Europe/Paris
BEGIN:DAYLIGHT
TZOFFSETFROM:+0100
TZOFFSETTO:+0200
TZNAME:CEST
DTSTART:20240331T010000
END:DAYLIGHT
BEGIN:STANDARD
TZOFFSETFROM:+0200
TZOFFSETTO:+0100
TZNAME:CET
DTSTART:20241027T010000
END:STANDARD
BEGIN:DAYLIGHT
TZOFFSETFROM:+0100
TZOFFSETTO:+0200
TZNAME:CEST
DTSTART:20250330T010000
END:DAYLIGHT
BEGIN:STANDARD
TZOFFSETFROM:+0200
TZOFFSETTO:+0100
TZNAME:CET
DTSTART:20251026T010000
END:STANDARD
BEGIN:DAYLIGHT
TZOFFSETFROM:+0100
TZOFFSETTO:+0200
TZNAME:CEST
DTSTART:20260329T010000
END:DAYLIGHT
BEGIN:STANDARD
TZOFFSETFROM:+0200
TZOFFSETTO:+0100
TZNAME:CET
DTSTART:20261025T010000
END:STANDARD
END:VTIMEZONE
BEGIN:VEVENT
DTSTART;TZID=Europe/Paris:20251010T143000
DTEND;TZID=Europe/Paris:20251010T173000
DTSTAMP:20260426T031306
CREATED:20250909T124732Z
LAST-MODIFIED:20250912T101752Z
UID:52878-1760106600-1760117400@mrsh.unicaen.fr
SUMMARY:Négociations\, médiations\, réseaux dans l’empire ibérique (II) | 2
DESCRIPTION:Le Temps de l’Empire ibérique (XVe – XVIIIe siècles) · 2025-2026\n\n\n\nFernando Negredo del Cerro (Instituto de Estudios Hispánicos en la Modernidad)\, Olivares y las redes de poder en la corte madrileña (1622-1635) ¿Un valido tiránico? \n\n\n\nAliocha Maldavsky (Université Paris Nanterre)\,Résister aux moutons. Populations andines et animaux européens au XVIe siècle\, entre négociations et adaptation \n\n\n\n\n\nLa participation est obligatoire pour tous les étudiants inscrits dans ce séminaire :7SMRTEI (M1 S1)\, Y8SMRTEI (M1 S2)\, Y9SMRTEI (M2 S1)\, Y0SMRTEI (M2 S2) \n\n\n\nProgramme de l’année\n\n\n\nempireIberique2025-2026 (pdf · 4 Mo)Télécharger (pdf · 4 Mo)
URL:https://mrsh.unicaen.fr/evenement/negociations-mediations-reseaux-dans-lempire-iberique-ii-2/
LOCATION:Caen · Campus 1 · Maison des langues et de l’international (MLI) · Salle Li-160\, Carré international - Maison des langues et de l'international\, Caen\, 14000\, France
CATEGORIES:Séminaire
ATTACH;FMTTYPE=image/jpeg:https://mrsh.unicaen.fr/wp-content/uploads/sites/35/2025/09/Bartholomeus_van_der_Helst_Banquet_of_the_Amsterdam_Civic_Guard_in_Celebration_of_the_Peace_of_Munster-scaled.jpeg
END:VEVENT
END:VCALENDAR