BEGIN:VCALENDAR
VERSION:2.0
PRODID:-//MRSH · Maison de la Recherche en Sciences Humaines - ECPv6.15.18//NONSGML v1.0//EN
CALSCALE:GREGORIAN
METHOD:PUBLISH
X-WR-CALNAME:MRSH · Maison de la Recherche en Sciences Humaines
X-ORIGINAL-URL:https://mrsh.unicaen.fr
X-WR-CALDESC:Évènements pour MRSH · Maison de la Recherche en Sciences Humaines
REFRESH-INTERVAL;VALUE=DURATION:PT1H
X-Robots-Tag:noindex
X-PUBLISHED-TTL:PT1H
BEGIN:VTIMEZONE
TZID:Europe/Paris
BEGIN:DAYLIGHT
TZOFFSETFROM:+0100
TZOFFSETTO:+0200
TZNAME:CEST
DTSTART:20250330T010000
END:DAYLIGHT
BEGIN:STANDARD
TZOFFSETFROM:+0200
TZOFFSETTO:+0100
TZNAME:CET
DTSTART:20251026T010000
END:STANDARD
BEGIN:DAYLIGHT
TZOFFSETFROM:+0100
TZOFFSETTO:+0200
TZNAME:CEST
DTSTART:20260329T010000
END:DAYLIGHT
BEGIN:STANDARD
TZOFFSETFROM:+0200
TZOFFSETTO:+0100
TZNAME:CET
DTSTART:20261025T010000
END:STANDARD
BEGIN:DAYLIGHT
TZOFFSETFROM:+0100
TZOFFSETTO:+0200
TZNAME:CEST
DTSTART:20270328T010000
END:DAYLIGHT
BEGIN:STANDARD
TZOFFSETFROM:+0200
TZOFFSETTO:+0100
TZNAME:CET
DTSTART:20271031T010000
END:STANDARD
END:VTIMEZONE
BEGIN:VEVENT
DTSTART;TZID=Europe/Paris:20260115T080000
DTEND;TZID=Europe/Paris:20260215T170000
DTSTAMP:20260420T151531
CREATED:20251204T124529Z
LAST-MODIFIED:20251204T124706Z
UID:89762-1768464000-1771174800@mrsh.unicaen.fr
SUMMARY:Appel à participation - Pitch & workshop
DESCRIPTION:Focus est une manifestation où chercheur·es et professionnel·les de l’économie culturelle et créative se rencontrent pour réfléchir\, échanger et nouer de nouvelles collaborations. Ce salon propose de questionner les nouvelles formes de narration en sciences humaines et sociales\, par l’image\, le son\, les arts vivants ou toute autre forme d’écriture alternative. Focus est un moment convivial qui favorise les rencontres inter-professionnelles et encourage les réflexions communes sur les défis de production et de diffusion à travers des workshops\, pitchs\, tables rondes\, projections\, spectacles\, expositions et bien plus encore. Focus se tiendra les 4 et 5 juin 2026 au MUCEM\, à Marseille. \n\n\n\n2 formats de participation sur candidature vous sont proposés : \n\n\n\n\n\nPitch\n\n\n\nCes ateliers sont destinés à des projets qui sont à un stade de développement avancé. Les Pitchs offrent l’opportunité à des chercheur·ses et doctorant·es de présenter leur projet filmique\, photographique\, sonore\, graphique\, d’édition\, de spectacle vivant ou d’exposition\, à des professionnel·le·s de l’économie créative. C’est une occasion privilégiée de confronter son projet à d’autres regards\, de façonner des partenariats\, et de et favoriser le développement concret d’écriture alternative. L’atelier est ouvert aux projets déjà en cours.Si votre candidature est retenue\, une réunion préparatoire au Pitch sera organisée en visio début mars. Votre présence à cette réunion est essentielle afin de vous accompagner au mieux dans la préparation de votre Pitch. \n\n\n\n\nJe candidate !\n\n\n\n\n\n\n \n\n\n\n\n\n\n\n\n\n \n\n\n\n\n\nWorkshop\n\n\n\nCette formation d’une demi-journée est destinée à des chercheur·ses et doctorant·es qui s’intéressent aux écritures alternatives de la recherche mais qui ne savent pas par où commencer. « Fabriquer » un film documentaire\, un roman graphique\, un documentaire sonore\, une exposition\, dans le cadre de son travail de recherche est une démarche originale et ambitieuse qui expose à bien des questions : Pourquoi ? Comment ? Avec qui ? Pour quelle diffusion ? Sous quelle forme ? Avec quels financements?C’est un moment d’échange privilégié et de partage collectif avec des professionnel·les de l’économie créative et de la recherche\, où des premières pistes pratiques pour le développement d’un projet créatif peuvent émerger.  \n\n\n\n\nJe candidate !\n\n\n\n\n\n\n\n\nLes formulaires de candidature permettent à l’équipe de coordination du salon Focus d’en apprendre davantage sur votre projet et ses besoins.  \n\n\n\nDate limite de candidature : 15 janvier 2026 (inclus)Réponses aux candidatures : 15 février 2026 \n\n\n\nSi votre candidature n’est pas retenue pour nos Pitch et Workshop\, il vous sera bien sûr possible de vous inscrire au Salon Focus et d’assister au rencontres et tables rondes en juin en tant qu’auditeur·ice libre. \n\n\n\nPour celles et ceux qui n’ont pas de projet en cours\, venez assister aux Tempo\, Expositions\, Projections\, Forum des Revues et participez aux riches échanges au cours des journées de rencontre. \n\n\n\nProgramme et inscription auditeur·ice·s libre début 2026 ! \n\n\n\nPour nous contacter : salonfocusofficiel@gmail.com  \n\n\n\nEn savoir plus sur Focus : salonfocus.fr
URL:https://mrsh.unicaen.fr/evenement/appel-a-participation-pitch-workshop/
ATTACH;FMTTYPE=image/jpeg:https://mrsh.unicaen.fr/wp-content/uploads/sites/35/2025/12/focus.jpg
END:VEVENT
BEGIN:VEVENT
DTSTART;TZID=Europe/Paris:20260115T100000
DTEND;TZID=Europe/Paris:20260115T130000
DTSTAMP:20260420T151531
CREATED:20250912T140923Z
LAST-MODIFIED:20260109T130312Z
UID:89064-1768471200-1768482000@mrsh.unicaen.fr
SUMMARY:PENSER LE MARITIME | 5
DESCRIPTION:LE HAVRE NORMANDIE UNIVERSITE/POLE DES ETUDES MARITIMES \n\n\n\nOrganisé par Carole CHRISTEN\, Éric SAUNIER et Thomas VAISSETLes séances se déroulent à l’université Le Havre Normandie\, en salle Madeleine de Scurdéry (PRSH) \n\n\n\n\n\nCorrespondances maritimes au temps de la Révolution\n\n\n\nAutour d’une correspondance commerciale : la dernière traite vers Saint-Domingue (1789-1792)Éric SAUNIER\, maître de conférences en histoire moderne à l’université Le Havre Normandie\, HisTemé\, EA 7455 et Tom-Hugo COUVET\, master de l’université du Havre \n\n\n\nLa correspondance de Rose de FreycinetIsabelle LABOULAIS\, professeure d’histoire moderne à l’université de Strasbourg\, SAGE UMR 7363 CNRS et Cassandra DOSTERT\, master de l’université de Trêves\, Transmare Institut
URL:https://mrsh.unicaen.fr/evenement/penser-le-maritime-5/
LOCATION:Le Havre · Université Le Havre Normandie\, Université Le Havre Normandie\, 25 Rue Philippe Lebon\, Le Havre\, 76600\, France
CATEGORIES:Séminaire
ATTACH;FMTTYPE=image/jpeg:https://mrsh.unicaen.fr/wp-content/uploads/sites/35/2025/09/Jolivet1web.jpg
END:VEVENT
END:VCALENDAR