BEGIN:VCALENDAR
VERSION:2.0
PRODID:-//MRSH · Maison de la Recherche en Sciences Humaines - ECPv6.15.18//NONSGML v1.0//EN
CALSCALE:GREGORIAN
METHOD:PUBLISH
X-WR-CALNAME:MRSH · Maison de la Recherche en Sciences Humaines
X-ORIGINAL-URL:https://mrsh.unicaen.fr
X-WR-CALDESC:Évènements pour MRSH · Maison de la Recherche en Sciences Humaines
REFRESH-INTERVAL;VALUE=DURATION:PT1H
X-Robots-Tag:noindex
X-PUBLISHED-TTL:PT1H
BEGIN:VTIMEZONE
TZID:Europe/Paris
BEGIN:DAYLIGHT
TZOFFSETFROM:+0100
TZOFFSETTO:+0200
TZNAME:CEST
DTSTART:20250330T010000
END:DAYLIGHT
BEGIN:STANDARD
TZOFFSETFROM:+0200
TZOFFSETTO:+0100
TZNAME:CET
DTSTART:20251026T010000
END:STANDARD
BEGIN:DAYLIGHT
TZOFFSETFROM:+0100
TZOFFSETTO:+0200
TZNAME:CEST
DTSTART:20260329T010000
END:DAYLIGHT
BEGIN:STANDARD
TZOFFSETFROM:+0200
TZOFFSETTO:+0100
TZNAME:CET
DTSTART:20261025T010000
END:STANDARD
BEGIN:DAYLIGHT
TZOFFSETFROM:+0100
TZOFFSETTO:+0200
TZNAME:CEST
DTSTART:20270328T010000
END:DAYLIGHT
BEGIN:STANDARD
TZOFFSETFROM:+0200
TZOFFSETTO:+0100
TZNAME:CET
DTSTART:20271031T010000
END:STANDARD
END:VTIMEZONE
BEGIN:VEVENT
DTSTART;TZID=Europe/Paris:20260304T180000
DTEND;TZID=Europe/Paris:20260304T193000
DTSTAMP:20260420T151528
CREATED:20251219T084328Z
LAST-MODIFIED:20260220T082909Z
UID:89958-1772647200-1772652600@mrsh.unicaen.fr
SUMMARY:Vaut-il mieux être un renard ou un hérisson ?
DESCRIPTION:2e conférence \n\n\n\n\n\n\n\n\n\n\n\nVirginie Bagneux \n\n\n\nMaitresse de conférenceen psychologie sociale à l’université de CaenNormandie \n\n\n\n\n\n\n\n\n\n\n\n\n\nChristophe Michel \n\n\n\nde la chaine youtube « Hygiène Mentale » \n\n\n\n\n\n\n\nRésumé :\n\n\n\nLa question de la prédiction de l’avenir est une question cruciale\, étant donné les grands changements sociétaux et environnementaux qui s’offrent à nous aujourd’hui. A qui peut-on faire le plus confiance ? Depuis des décennies\, il existe des tournois de prédictions des évènements à venir. De nombreuses recherches scientifiques croisent les résultats de ces tournois avec des données démographiques et des profils psychologiques en vue de dresser le profil type des individus les plus clairvoyants. Cette conférence pose la question de l’évaluation de l’expertise de la source de l’information et questionne l’exercice de l’esprit critique\, notion au cœur de la défense contre la désinformation. \n\n\n\n\n\nUn échange entre l’intervenant et le public est prévu à l’issue de la conférence. \n\n\n\nDurée : 1h30 \n\n\n\nLieu :\n\n\n\nAmphi François Digard (Pôle Agglo) – 58 Rue Lycette Darsonval\, Saint-Lô \n\n\n\n \n\n\n\nflyer-prog_page (pdf · 2 Mo)Télécharger (pdf · 2 Mo)
URL:https://mrsh.unicaen.fr/evenement/vaut-il-mieux-etre-un-renard-ou-un-herisson/
CATEGORIES:Conférence
ATTACH;FMTTYPE=image/jpeg:https://mrsh.unicaen.fr/wp-content/uploads/sites/35/2025/12/AdobeStock_78690189-scaled.jpeg
END:VEVENT
END:VCALENDAR