BEGIN:VCALENDAR
VERSION:2.0
PRODID:-//MRSH · Maison de la Recherche en Sciences Humaines - ECPv6.15.18//NONSGML v1.0//EN
CALSCALE:GREGORIAN
METHOD:PUBLISH
X-WR-CALNAME:MRSH · Maison de la Recherche en Sciences Humaines
X-ORIGINAL-URL:https://mrsh.unicaen.fr
X-WR-CALDESC:Évènements pour MRSH · Maison de la Recherche en Sciences Humaines
REFRESH-INTERVAL;VALUE=DURATION:PT1H
X-Robots-Tag:noindex
X-PUBLISHED-TTL:PT1H
BEGIN:VTIMEZONE
TZID:Europe/Paris
BEGIN:DAYLIGHT
TZOFFSETFROM:+0100
TZOFFSETTO:+0200
TZNAME:CEST
DTSTART:20250330T010000
END:DAYLIGHT
BEGIN:STANDARD
TZOFFSETFROM:+0200
TZOFFSETTO:+0100
TZNAME:CET
DTSTART:20251026T010000
END:STANDARD
BEGIN:DAYLIGHT
TZOFFSETFROM:+0100
TZOFFSETTO:+0200
TZNAME:CEST
DTSTART:20260329T010000
END:DAYLIGHT
BEGIN:STANDARD
TZOFFSETFROM:+0200
TZOFFSETTO:+0100
TZNAME:CET
DTSTART:20261025T010000
END:STANDARD
BEGIN:DAYLIGHT
TZOFFSETFROM:+0100
TZOFFSETTO:+0200
TZNAME:CEST
DTSTART:20270328T010000
END:DAYLIGHT
BEGIN:STANDARD
TZOFFSETFROM:+0200
TZOFFSETTO:+0100
TZNAME:CET
DTSTART:20271031T010000
END:STANDARD
END:VTIMEZONE
BEGIN:VEVENT
DTSTART;TZID=Europe/Paris:20260324T210000
DTEND;TZID=Europe/Paris:20260324T220000
DTSTAMP:20260422T184349
CREATED:20260323T095228Z
LAST-MODIFIED:20260323T102807Z
UID:90514-1774386000-1774389600@mrsh.unicaen.fr
SUMMARY:Les biais ou comment ils ont massacré les dieux – une pièce de théâtre
DESCRIPTION:25 mars 2026 · 19h00 – 20h00 \n\n\n\nDans le cadre du projet LUCIDE\, Virginie Bagneux a accompagné un groupe d’étudiants et d’étudiantes artistes et interprètes dans la création d’une pièce de théâtre qui explore\, explique et décortique de façon innovante et amusante les biais cognitifs. \n\n\n\n\nMDE de Caen\, sur le campus 1. \n\n\n\nGratuit sans inscription et tous publics \n\n\n\n\nUn projet collectif\n\n\n\nÉcrit et mis en scène par : Ambre RIVARDCollaboration Artistique : Mathis BISSONRelecture : Virginie BAGNEUXChorégraphe : Leslie K DE LA PASTELLIERECostumière : Zélie POISSONRégis lumière : Lisa DUHAMELComédiens et comédiennes : Solène EVE\, Inès LECOQ-DUPUICH\, Lilou LEPRETRE\, Mathis BISSONS\, Flora COUBRET\, Mathieu GOULEAU\, Tom CLOTET\, Mathilde FARDAO \n\n\n\n\nLire l’article complet sur le site du programme LUCIDE
URL:https://mrsh.unicaen.fr/evenement/les-biais-ou-comment-ils-ont-massacre-les-dieux-une-piece-de-theatre/
ATTACH;FMTTYPE=image/jpeg:https://mrsh.unicaen.fr/wp-content/uploads/sites/35/2026/03/biais-theatre.jpg
END:VEVENT
END:VCALENDAR