BEGIN:VCALENDAR
VERSION:2.0
PRODID:-//MRSH · Maison de la Recherche en Sciences Humaines - ECPv6.15.18//NONSGML v1.0//EN
CALSCALE:GREGORIAN
METHOD:PUBLISH
X-ORIGINAL-URL:https://mrsh.unicaen.fr
X-WR-CALDESC:Évènements pour MRSH · Maison de la Recherche en Sciences Humaines
REFRESH-INTERVAL;VALUE=DURATION:PT1H
X-Robots-Tag:noindex
X-PUBLISHED-TTL:PT1H
BEGIN:VTIMEZONE
TZID:Europe/Paris
BEGIN:DAYLIGHT
TZOFFSETFROM:+0100
TZOFFSETTO:+0200
TZNAME:CEST
DTSTART:20250330T010000
END:DAYLIGHT
BEGIN:STANDARD
TZOFFSETFROM:+0200
TZOFFSETTO:+0100
TZNAME:CET
DTSTART:20251026T010000
END:STANDARD
BEGIN:DAYLIGHT
TZOFFSETFROM:+0100
TZOFFSETTO:+0200
TZNAME:CEST
DTSTART:20260329T010000
END:DAYLIGHT
BEGIN:STANDARD
TZOFFSETFROM:+0200
TZOFFSETTO:+0100
TZNAME:CET
DTSTART:20261025T010000
END:STANDARD
BEGIN:DAYLIGHT
TZOFFSETFROM:+0100
TZOFFSETTO:+0200
TZNAME:CEST
DTSTART:20270328T010000
END:DAYLIGHT
BEGIN:STANDARD
TZOFFSETFROM:+0200
TZOFFSETTO:+0100
TZNAME:CET
DTSTART:20271031T010000
END:STANDARD
END:VTIMEZONE
BEGIN:VEVENT
DTSTART;TZID=Europe/Paris:20260512T140000
DTEND;TZID=Europe/Paris:20260512T170000
DTSTAMP:20260421T232522
CREATED:20250725T122525Z
LAST-MODIFIED:20250725T122526Z
UID:52752-1778594400-1778605200@mrsh.unicaen.fr
SUMMARY:Atelier du Pôle Document numérique
DESCRIPTION:Pour participer au prochain atelier du Pôle Document Numérique\, merci de confirmer votre présence par mail à Julia Roger. N’hésitez pas à faire suivre ce message aux collègues de votre entourage susceptibles d’être intéressé(e)s par notre atelier.
URL:https://mrsh.unicaen.fr/evenement/atelier-du-pole-document-numerique-21/
LOCATION:Caen · Campus 1 · Maison de la recherche en sciences humaines (MRSH) · Salle SH-126\, Campus 1\, Maison de la recherche en sciences humaines (MRSH)\, 1 Esplanade de la Paix\, Caen\, 14000\, France
CATEGORIES:Atelier
END:VEVENT
BEGIN:VEVENT
DTSTART;TZID=Europe/Paris:20260519T080000
DTEND;TZID=Europe/Paris:20260519T170000
DTSTAMP:20260421T232522
CREATED:20260409T135538Z
LAST-MODIFIED:20260409T135916Z
UID:90645-1779177600-1779210000@mrsh.unicaen.fr
SUMMARY:Méthodes visuelles : rencontre "Traits d'union"
DESCRIPTION:RENCONTRE\n\n\n\n« Traits d’union »\, un événement « recherche-société » Méthodes visuelles et projection-débat\n\n\n\n\n\nQuelles formes\, quelles médiations\, quels intermédiaires permettent aux chercheuses et chercheurs en ALL-SHS-STAPS de tracer des traits d’union entre recherche et société ? \n\n\n\nLa MSHB vous propose de vous inscrire dès maintenant à la prochaine journée de rencontre et d’échange autour de ces questions. L’événement (initialement prévu le 18 septembre 2025) est dédié aux méthodes visuelles et à la projection-débat. Cette journée est construite en partenariat avec le programme « Film et Recherche en Sciences Humaines » (FRESH) et l’association Comptoir du Doc.  \n\n\n\nMaison des sciences humaines et sociales en BretagneAmphithéâtre Robert Castel (Rennes) \n\n\n\n\n\n\n\n\nPlus d’informations
URL:https://mrsh.unicaen.fr/evenement/methodes-visuelles-rencontre-traits-dunion-et-formation-2/
CATEGORIES:Rencontre - Table ronde
ATTACH;FMTTYPE=image/png:https://mrsh.unicaen.fr/wp-content/uploads/sites/35/2026/04/Capture-decran-2025-07-07-a-13.11.17.png
END:VEVENT
END:VCALENDAR