BEGIN:VCALENDAR
VERSION:2.0
PRODID:-//MRSH · Maison de la Recherche en Sciences Humaines - ECPv6.15.18//NONSGML v1.0//EN
CALSCALE:GREGORIAN
METHOD:PUBLISH
X-WR-CALNAME:MRSH · Maison de la Recherche en Sciences Humaines
X-ORIGINAL-URL:https://mrsh.unicaen.fr
X-WR-CALDESC:Évènements pour MRSH · Maison de la Recherche en Sciences Humaines
REFRESH-INTERVAL;VALUE=DURATION:PT1H
X-Robots-Tag:noindex
X-PUBLISHED-TTL:PT1H
BEGIN:VTIMEZONE
TZID:Europe/Paris
BEGIN:DAYLIGHT
TZOFFSETFROM:+0100
TZOFFSETTO:+0200
TZNAME:CEST
DTSTART:20250330T010000
END:DAYLIGHT
BEGIN:STANDARD
TZOFFSETFROM:+0200
TZOFFSETTO:+0100
TZNAME:CET
DTSTART:20251026T010000
END:STANDARD
BEGIN:DAYLIGHT
TZOFFSETFROM:+0100
TZOFFSETTO:+0200
TZNAME:CEST
DTSTART:20260329T010000
END:DAYLIGHT
BEGIN:STANDARD
TZOFFSETFROM:+0200
TZOFFSETTO:+0100
TZNAME:CET
DTSTART:20261025T010000
END:STANDARD
BEGIN:DAYLIGHT
TZOFFSETFROM:+0100
TZOFFSETTO:+0200
TZNAME:CEST
DTSTART:20270328T010000
END:DAYLIGHT
BEGIN:STANDARD
TZOFFSETFROM:+0200
TZOFFSETTO:+0100
TZNAME:CET
DTSTART:20271031T010000
END:STANDARD
END:VTIMEZONE
BEGIN:VEVENT
DTSTART;TZID=Europe/Paris:20260602T180000
DTEND;TZID=Europe/Paris:20260602T213000
DTSTAMP:20260420T140323
CREATED:20251219T085129Z
LAST-MODIFIED:20260420T083057Z
UID:89963-1780423200-1780435800@mrsh.unicaen.fr
SUMMARY:La guerre de l'information
DESCRIPTION:3e conférence \n\n\n\n\n\n\n\n\n\n\n\nDavid Colon \n\n\n\nHistorien\, professeur à Sciences Po Paris\, et chercheur au Centre d’histoire de Sciences Po (CHSP). Il a reçu le prix Jacques-Ellul (2020) et le prix Akropolis (2019) pour son précédent ouvrage\, Propagande et\, en 2024\, le prix de la Revue des Deux Mondes pour son livre La Guerre de l’information. \n\n\n\n\n\n\n\nRésumé :\n\n\n\nNous assistons aujourd’hui à une guerre silencieuse et largement invisible : la guerre de l’information\, qui menace directement nos démocraties. Depuis la fin de la guerre froide\, l’explosion d’Internet et l’essor des médias globaux\, le pouvoir des États repose désormais sur leur capacité à maîtriser l’information\, qu’il s’agisse de hard power\, soft power ou sharp power. Avec l’arrivée de l’intelligence artificielle (IA) et des techniques de guerre cognitive\, les réseaux sociaux sont devenus le champ de bataille central d’une confrontation permanente mêlant désinformation et instrumentalisation de théories du complot\, où l’enjeu ultime est notre esprit. Quels sont donc les mécanismes\, les stratégies et les acteurs de cette guerre secrète qui redéfinit la puissance et la géopolitique contemporaines ?  \n\n\n\n\n\nUn échange entre l’intervenant et le public est prévu à l’issue de la conférence. \n\n\n\nDurée : 1h30 \n\n\n\nLieu :
URL:https://mrsh.unicaen.fr/evenement/la-guerre-de-linformation/
LOCATION:Caen · Campus 1 · Bâtiment P · Amphi Pierre Daure\, Amphithéâtre Pierre Daure\, Esplanade de la Paix\, Caen\, 14000\, France
CATEGORIES:Conférence
ATTACH;FMTTYPE=image/jpeg:https://mrsh.unicaen.fr/wp-content/uploads/sites/35/2025/12/flyer-prog_page-1.jpg
END:VEVENT
BEGIN:VEVENT
DTSTART;TZID=Europe/Paris:20260609T140000
DTEND;TZID=Europe/Paris:20260609T180000
DTSTAMP:20260420T140323
CREATED:20250905T084529Z
LAST-MODIFIED:20250909T080042Z
UID:52856-1781013600-1781028000@mrsh.unicaen.fr
SUMMARY:Sociétés\, environnement et espaces ruraux 2025-2026 ǀ 7
DESCRIPTION:Le séminaire du pôle rural se délocalise à la Maison de la Forêt(Forêt de Cerisy – Isigny OMAHA Intercom) \n\n\n\nJournée consacrée à la forêt à l’occasion du 4e Printemps de l’histoire environnementale (organisée par le RUCHE) \n\n\n\nÉlisabeth DAVIN-MORTIER\, Maîtresse de conférences en histoire contemporaine\, Sorbonne université\, Centre d’histoire du XIXe siècleL’eucalyptus : un arbre-outil de la colonisation en Palestine ottomane et britannique (1870-1948) \n\n\n\nThierry FEUILLET\, Professeur de géographie\, UMR IDEES\, Université de Caen NormandieAnalyse des liens entre la dynamique des écotones et la biodiversité pour mieux conserver et restaurer les milieux \n\n\n\nKarine MARSILLY\, Arboriste-grimpeuseAuteur de Ma vie avec les arbres (2021). Témoignage \n\n\n\nVincent Joseph\, responsable de l’unité territoriale OuestNormandie de l’Office national des forêtsVisite de terrain \n\n\n\n \n\n\n\n \n\n\n\npoleruralaffiche25-26 (pdf · 530 Ko)Télécharger (pdf · 530 Ko)
URL:https://mrsh.unicaen.fr/evenement/societes-environnement-et-espaces-ruraux-2025-2026-%c7%80-7/
LOCATION:Isigny-Omaha · Maison de la Forêt\, Bureau touristique Isigny-Omaha : Maison de la Forêt - L'Embranchement\, Monfiquet\, 14490\, France
CATEGORIES:Séminaire
ATTACH;FMTTYPE=image/jpeg:https://mrsh.unicaen.fr/wp-content/uploads/sites/35/2025/09/poleruralaffiche25-26-1.jpg
END:VEVENT
BEGIN:VEVENT
DTSTART;TZID=Europe/Paris:20260611T140000
DTEND;TZID=Europe/Paris:20260611T170000
DTSTAMP:20260420T140323
CREATED:20250725T122556Z
LAST-MODIFIED:20250725T122557Z
UID:52754-1781186400-1781197200@mrsh.unicaen.fr
SUMMARY:Atelier du Pôle Document numérique
DESCRIPTION:Pour participer au prochain atelier du Pôle Document Numérique\, merci de confirmer votre présence par mail à Julia Roger. N’hésitez pas à faire suivre ce message aux collègues de votre entourage susceptibles d’être intéressé(e)s par notre atelier.
URL:https://mrsh.unicaen.fr/evenement/atelier-du-pole-document-numerique-22/
LOCATION:Caen · Campus 1 · Maison de la recherche en sciences humaines (MRSH) · Salle SH-126\, Campus 1\, Maison de la recherche en sciences humaines (MRSH)\, 1 Esplanade de la Paix\, Caen\, 14000\, France
CATEGORIES:Atelier
END:VEVENT
END:VCALENDAR